BEGIN:VCALENDAR
VERSION:2.0
PRODID:-//東京広尾ロータリークラブ | Rotary Club of Tokyo Hiroo - ECPv4.5.13//NONSGML v1.0//EN
CALSCALE:GREGORIAN
METHOD:PUBLISH
X-WR-CALNAME:東京広尾ロータリークラブ | Rotary Club of Tokyo Hiroo
X-ORIGINAL-URL:https://hiroorc.org
X-WR-CALDESC:Events for 東京広尾ロータリークラブ | Rotary Club of Tokyo Hiroo
BEGIN:VEVENT
DTSTART;TZID=Asia/Tokyo:20210526T130000
DTEND;TZID=Asia/Tokyo:20210526T170000
DTSTAMP:20260425T191749
CREATED:20210420T232017Z
LAST-MODIFIED:20210420T232017Z
UID:20696-1622034000-1622048400@hiroorc.org
SUMMARY:国際ﾛｰﾀﾘｰ2750 地区 2020-21 年度地区大会 District Conference of 2020-21 13:00～17：00 グランドプリンスホテル新高輪 Grand Prince Hotel Shin Takanawa
DESCRIPTION:
URL:https://hiroorc.org/event/%e5%9b%bd%e9%9a%9b%ef%be%9b%ef%bd%b0%ef%be%80%ef%be%98%ef%bd%b02750-%e5%9c%b0%e5%8c%ba-2020-21-%e5%b9%b4%e5%ba%a6%e5%9c%b0%e5%8c%ba%e5%a4%a7%e4%bc%9a-district-conference-of-2020-21-1300%ef%bd%9e17/
LOCATION:港区高輪3-13-1\, 東京都\, 108-8612\, Japan
END:VEVENT
END:VCALENDAR