BEGIN:VCALENDAR
VERSION:2.0
PRODID:-//東京広尾ロータリークラブ | Rotary Club of Tokyo Hiroo - ECPv4.5.13//NONSGML v1.0//EN
CALSCALE:GREGORIAN
METHOD:PUBLISH
X-WR-CALNAME:東京広尾ロータリークラブ | Rotary Club of Tokyo Hiroo
X-ORIGINAL-URL:https://hiroorc.org
X-WR-CALDESC:Events for 東京広尾ロータリークラブ | Rotary Club of Tokyo Hiroo
BEGIN:VEVENT
DTSTART;TZID=Asia/Tokyo:20210506T080000
DTEND;TZID=Asia/Tokyo:20210506T170000
DTSTAMP:20260424T151313
CREATED:20201005T065802Z
LAST-MODIFIED:20201005T065802Z
UID:20473-1620288000-1620320400@hiroorc.org
SUMMARY:休会 No Meeting
DESCRIPTION:
URL:https://hiroorc.org/event/%e4%bc%91%e4%bc%9a-no-meeting-22/
END:VEVENT
END:VCALENDAR