BEGIN:VCALENDAR
VERSION:2.0
PRODID:-//東京広尾ロータリークラブ | Rotary Club of Tokyo Hiroo - ECPv4.5.13//NONSGML v1.0//EN
CALSCALE:GREGORIAN
METHOD:PUBLISH
X-WR-CALNAME:東京広尾ロータリークラブ | Rotary Club of Tokyo Hiroo
X-ORIGINAL-URL:https://hiroorc.org
X-WR-CALDESC:Events for 東京広尾ロータリークラブ | Rotary Club of Tokyo Hiroo
BEGIN:VEVENT
DTSTART;TZID=Asia/Tokyo:20210415T123000
DTEND;TZID=Asia/Tokyo:20210415T133000
DTSTAMP:20260423T051314
CREATED:20210322T064344Z
LAST-MODIFIED:20210420T231709Z
UID:20648-1618489800-1618493400@hiroorc.org
SUMMARY:クラブ協議会 Club Assembly 「クラブ細則の変更について」
DESCRIPTION:
URL:https://hiroorc.org/event/%e4%be%8b%e4%bc%9a-regular-meeting-66/
CATEGORIES:例会
END:VEVENT
END:VCALENDAR