BEGIN:VCALENDAR
VERSION:2.0
PRODID:-//東京広尾ロータリークラブ | Rotary Club of Tokyo Hiroo - ECPv4.5.13//NONSGML v1.0//EN
CALSCALE:GREGORIAN
METHOD:PUBLISH
X-WR-CALNAME:東京広尾ロータリークラブ | Rotary Club of Tokyo Hiroo
X-ORIGINAL-URL:https://hiroorc.org
X-WR-CALDESC:Events for 東京広尾ロータリークラブ | Rotary Club of Tokyo Hiroo
BEGIN:VEVENT
DTSTART;TZID=Asia/Tokyo:20210304T123000
DTEND;TZID=Asia/Tokyo:20210304T133000
DTSTAMP:20260419T165728
CREATED:20201005T065326Z
LAST-MODIFIED:20210322T063805Z
UID:20452-1614861000-1614864600@hiroorc.org
SUMMARY:オンライン例会-イニシエーションスピーチ 湖上蕎瑛子新会員
DESCRIPTION:
URL:https://hiroorc.org/event/%e4%be%8b%e4%bc%9a-regular-meeting-62/
CATEGORIES:例会
END:VEVENT
END:VCALENDAR