BEGIN:VCALENDAR
VERSION:2.0
PRODID:-//東京広尾ロータリークラブ | Rotary Club of Tokyo Hiroo - ECPv4.5.13//NONSGML v1.0//EN
CALSCALE:GREGORIAN
METHOD:PUBLISH
X-WR-CALNAME:東京広尾ロータリークラブ | Rotary Club of Tokyo Hiroo
X-ORIGINAL-URL:https://hiroorc.org
X-WR-CALDESC:Events for 東京広尾ロータリークラブ | Rotary Club of Tokyo Hiroo
BEGIN:VEVENT
DTSTART;TZID=Asia/Tokyo:20180705T123000
DTEND;TZID=Asia/Tokyo:20180705T133000
DTSTAMP:20260421T013119
CREATED:20180305T053744Z
LAST-MODIFIED:20180530T092516Z
UID:18915-1530793800-1530797400@hiroorc.org
SUMMARY:宮村新会長挨拶 Speech from the New President Miyamura
DESCRIPTION:
URL:https://hiroorc.org/event/%e4%be%8b%e4%bc%9a%e3%80%80%e4%bc%9a%e9%95%b7%e6%96%b0%e5%b9%b4%e5%ba%a6%e3%82%b9%e3%83%94%e3%83%bc%e3%83%81/
LOCATION:ropponngi 6-10-1 六本木ヒルズ森タワー51階\, minato\, Tokyo\, 106-6151\, Japan
CATEGORIES:例会
END:VEVENT
END:VCALENDAR