BEGIN:VCALENDAR
VERSION:2.0
PRODID:-//東京広尾ロータリークラブ | Rotary Club of Tokyo Hiroo - ECPv4.5.13//NONSGML v1.0//EN
CALSCALE:GREGORIAN
METHOD:PUBLISH
X-WR-CALNAME:東京広尾ロータリークラブ | Rotary Club of Tokyo Hiroo
X-ORIGINAL-URL:https://hiroorc.org
X-WR-CALDESC:Events for 東京広尾ロータリークラブ | Rotary Club of Tokyo Hiroo
BEGIN:VEVENT
DTSTART;TZID=Asia/Tokyo:20170915T123000
DTEND;TZID=Asia/Tokyo:20170915T143000
DTSTAMP:20260425T235553
CREATED:20170921T045009Z
LAST-MODIFIED:20170921T045009Z
UID:17491-1505478600-1505485800@hiroorc.org
SUMMARY:例会 Regular Meeting
DESCRIPTION:
URL:https://hiroorc.org/event/20180215/
LOCATION:ropponngi 6-10-1 六本木ヒルズ森タワー51階\, minato\, Tokyo\, 106-6151\, Japan
CATEGORIES:例会
END:VEVENT
END:VCALENDAR