BEGIN:VCALENDAR
VERSION:2.0
PRODID:-//東京広尾ロータリークラブ | Rotary Club of Tokyo Hiroo - ECPv4.5.13//NONSGML v1.0//EN
CALSCALE:GREGORIAN
METHOD:PUBLISH
X-WR-CALNAME:東京広尾ロータリークラブ | Rotary Club of Tokyo Hiroo
X-ORIGINAL-URL:https://hiroorc.org
X-WR-CALDESC:Events for 東京広尾ロータリークラブ | Rotary Club of Tokyo Hiroo
BEGIN:VEVENT
DTSTART;TZID=Asia/Tokyo:20181208T090000
DTEND;TZID=Asia/Tokyo:20181208T120000
DTSTAMP:20260419T152542
CREATED:20180530T101113Z
LAST-MODIFIED:20180530T101648Z
UID:19217-1544259600-1544270400@hiroorc.org
SUMMARY:Run for the Cure Event at Hibiya Park
DESCRIPTION:
URL:https://hiroorc.org/event/run-for-the-cure-event-at-hibiya-park/
LOCATION:千代田区日比谷公園\, 100-0012\, Japan
CATEGORIES:例会
END:VEVENT
END:VCALENDAR