BEGIN:VCALENDAR
VERSION:2.0
PRODID:-//東京広尾ロータリークラブ | Rotary Club of Tokyo Hiroo - ECPv4.5.13//NONSGML v1.0//EN
CALSCALE:GREGORIAN
METHOD:PUBLISH
X-WR-CALNAME:東京広尾ロータリークラブ | Rotary Club of Tokyo Hiroo
X-ORIGINAL-URL:https://hiroorc.org
X-WR-CALDESC:Events for 東京広尾ロータリークラブ | Rotary Club of Tokyo Hiroo
BEGIN:VEVENT
DTSTART;TZID=Asia/Tokyo:20180201T123000
DTEND;TZID=Asia/Tokyo:20180201T133000
DTSTAMP:20260425T223625
CREATED:20170921T044532Z
LAST-MODIFIED:20180112T080711Z
UID:17482-1517488200-1517491800@hiroorc.org
SUMMARY:ラシャ･エルナシャール新会員イニシエーションスピーチ Initiation Speech bu our new member\, Rasha El-Nashar
DESCRIPTION:
URL:https://hiroorc.org/event/20180201/
LOCATION:ropponngi 6-10-1 六本木ヒルズ森タワー51階\, minato\, Tokyo\, 106-6151\, Japan
CATEGORIES:例会
END:VEVENT
END:VCALENDAR