BEGIN:VCALENDAR
VERSION:2.0
PRODID:-//東京広尾ロータリークラブ | Rotary Club of Tokyo Hiroo - ECPv4.5.13//NONSGML v1.0//EN
CALSCALE:GREGORIAN
METHOD:PUBLISH
X-WR-CALNAME:東京広尾ロータリークラブ | Rotary Club of Tokyo Hiroo
X-ORIGINAL-URL:https://hiroorc.org
X-WR-CALDESC:Events for 東京広尾ロータリークラブ | Rotary Club of Tokyo Hiroo
BEGIN:VEVENT
DTSTART;TZID=Asia/Tokyo:20171221T123000
DTEND;TZID=Asia/Tokyo:20171221T133000
DTSTAMP:20260425T125715
CREATED:20170921T004019Z
LAST-MODIFIED:20171114T041841Z
UID:17405-1513859400-1513863000@hiroorc.org
SUMMARY:会話の日 Communication Day
DESCRIPTION:
URL:https://hiroorc.org/event/20171221/
LOCATION:ropponngi 6-10-1 六本木ヒルズ森タワー51階\, minato\, Tokyo\, 106-6151\, Japan
CATEGORIES:例会
END:VEVENT
END:VCALENDAR