BEGIN:VCALENDAR
VERSION:2.0
PRODID:-//東京広尾ロータリークラブ | Rotary Club of Tokyo Hiroo - ECPv4.5.13//NONSGML v1.0//EN
CALSCALE:GREGORIAN
METHOD:PUBLISH
X-WR-CALNAME:東京広尾ロータリークラブ | Rotary Club of Tokyo Hiroo
X-ORIGINAL-URL:https://hiroorc.org
X-WR-CALDESC:Events for 東京広尾ロータリークラブ | Rotary Club of Tokyo Hiroo
BEGIN:VEVENT
DTSTART;TZID=Asia/Tokyo:20171102T123000
DTEND;TZID=Asia/Tokyo:20171102T133000
DTSTAMP:20260419T194327
CREATED:20170921T002326Z
LAST-MODIFIED:20171101T011516Z
UID:17369-1509625800-1509629400@hiroorc.org
SUMMARY:斎藤ラッセル様 Russell Saito \, Hawaii e-club
DESCRIPTION:
URL:https://hiroorc.org/event/20171102/
LOCATION:ropponngi 6-10-1 六本木ヒルズ森タワー51階\, minato\, Tokyo\, 106-6151\, Japan
CATEGORIES:例会
END:VEVENT
END:VCALENDAR