BEGIN:VCALENDAR
VERSION:2.0
PRODID:-//東京広尾ロータリークラブ | Rotary Club of Tokyo Hiroo - ECPv4.5.13//NONSGML v1.0//EN
CALSCALE:GREGORIAN
METHOD:PUBLISH
X-WR-CALNAME:東京広尾ロータリークラブ | Rotary Club of Tokyo Hiroo
X-ORIGINAL-URL:https://hiroorc.org
X-WR-CALDESC:Events for 東京広尾ロータリークラブ | Rotary Club of Tokyo Hiroo
BEGIN:VEVENT
DTSTART;VALUE=DATE:20171026
DTEND;VALUE=DATE:20171026
DTSTAMP:20260419T212609
CREATED:20170921T002157Z
LAST-MODIFIED:20171101T011440Z
UID:17364-1508976000-1509062399@hiroorc.org
SUMMARY:移動例会 　12/2 Run for the Cureイベントに移動
DESCRIPTION:
URL:https://hiroorc.org/event/20171026/
END:VEVENT
END:VCALENDAR