BEGIN:VCALENDAR
VERSION:2.0
PRODID:-//東京広尾ロータリークラブ | Rotary Club of Tokyo Hiroo - ECPv4.5.13//NONSGML v1.0//EN
CALSCALE:GREGORIAN
METHOD:PUBLISH
X-WR-CALNAME:東京広尾ロータリークラブ | Rotary Club of Tokyo Hiroo
X-ORIGINAL-URL:https://hiroorc.org
X-WR-CALDESC:Events for 東京広尾ロータリークラブ | Rotary Club of Tokyo Hiroo
BEGIN:VEVENT
DTSTART;TZID=Asia/Tokyo:20200423T080000
DTEND;TZID=Asia/Tokyo:20200423T170000
DTSTAMP:20260423T042141
CREATED:20190924T075710Z
LAST-MODIFIED:20200422T000821Z
UID:19961-1587628800-1587661200@hiroorc.org
SUMMARY:休会 No Meeting
DESCRIPTION:
URL:https://hiroorc.org/event/%e8%8f%85%e5%8e%9f%e6%99%83%e5%85%a8%e6%a7%98%ef%bc%88%e6%9d%b1%e4%ba%ac%e5%a4%a7%e6%a3%aerc%ef%bc%89%e6%b5%84%e5%9c%9f%e7%9c%9f%e5%ae%97%e3%81%ae%e6%95%99%e3%81%88%ef%bc%88%e4%bb%ae%e9%a1%8c%ef%bc%89/
END:VEVENT
END:VCALENDAR