BEGIN:VCALENDAR
VERSION:2.0
PRODID:-//東京広尾ロータリークラブ | Rotary Club of Tokyo Hiroo - ECPv4.5.13//NONSGML v1.0//EN
CALSCALE:GREGORIAN
METHOD:PUBLISH
X-WR-CALNAME:東京広尾ロータリークラブ | Rotary Club of Tokyo Hiroo
X-ORIGINAL-URL:https://hiroorc.org
X-WR-CALDESC:Events for 東京広尾ロータリークラブ | Rotary Club of Tokyo Hiroo
BEGIN:VEVENT
DTSTART;TZID=Asia/Tokyo:20171019T123000
DTEND;TZID=Asia/Tokyo:20171019T133000
DTSTAMP:20260420T012026
CREATED:20170921T002050Z
LAST-MODIFIED:20171101T011308Z
UID:17361-1508416200-1508419800@hiroorc.org
SUMMARY:牟田冨喜子様 Fukiko Muta オリエンタルジュノー株式会社代表取締役 Oriental Juno Co.\, Ltd. \, President 「人と人をつなぐ紅茶の世界」
DESCRIPTION:
URL:https://hiroorc.org/event/%e7%89%9f%e7%94%b0%e5%86%a8%e5%96%9c%e5%ad%90%e6%a7%98-fukiko-muta-%e3%82%aa%e3%83%aa%e3%82%a8%e3%83%b3%e3%82%bf%e3%83%ab%e3%82%b8%e3%83%a5%e3%83%8e%e3%83%bc%e6%a0%aa%e5%bc%8f%e4%bc%9a%e7%a4%be/
LOCATION:ropponngi 6-10-1 六本木ヒルズ森タワー51階\, minato\, Tokyo\, 106-6151\, Japan
CATEGORIES:例会
END:VEVENT
END:VCALENDAR