BEGIN:VCALENDAR
VERSION:2.0
PRODID:-//東京広尾ロータリークラブ | Rotary Club of Tokyo Hiroo - ECPv4.5.13//NONSGML v1.0//EN
CALSCALE:GREGORIAN
METHOD:PUBLISH
X-WR-CALNAME:東京広尾ロータリークラブ | Rotary Club of Tokyo Hiroo
X-ORIGINAL-URL:https://hiroorc.org
X-WR-CALDESC:Events for 東京広尾ロータリークラブ | Rotary Club of Tokyo Hiroo
BEGIN:VEVENT
DTSTART;TZID=Asia/Tokyo:20180920T123000
DTEND;TZID=Asia/Tokyo:20180920T133000
DTSTAMP:20260420T103552
CREATED:20180530T091532Z
LAST-MODIFIED:20180830T092428Z
UID:19176-1537446600-1537450200@hiroorc.org
SUMMARY:今井美由紀新会員イニシエーションスピーチ Initiation Speech by our new member Ms.Imai
DESCRIPTION:
URL:https://hiroorc.org/event/%e4%be%8b%e4%bc%9a-regular-meeting-8/
LOCATION:ropponngi 6-10-1 六本木ヒルズ森タワー51階\, minato\, Tokyo\, 106-6151\, Japan
CATEGORIES:例会
END:VEVENT
END:VCALENDAR