BEGIN:VCALENDAR
VERSION:2.0
PRODID:-//東京広尾ロータリークラブ | Rotary Club of Tokyo Hiroo - ECPv4.5.13//NONSGML v1.0//EN
CALSCALE:GREGORIAN
METHOD:PUBLISH
X-WR-CALNAME:東京広尾ロータリークラブ | Rotary Club of Tokyo Hiroo
X-ORIGINAL-URL:https://hiroorc.org
X-WR-CALDESC:Events for 東京広尾ロータリークラブ | Rotary Club of Tokyo Hiroo
BEGIN:VEVENT
DTSTART;TZID=Asia/Tokyo:20180823T123000
DTEND;TZID=Asia/Tokyo:20180823T133000
DTSTAMP:20260419T181835
CREATED:20180530T091053Z
LAST-MODIFIED:20180724T071806Z
UID:19170-1535027400-1535031000@hiroorc.org
SUMMARY:ノーマン・グリーン 思い出の旅 Norman Green\, Wonderful Trip
DESCRIPTION:
URL:https://hiroorc.org/event/%e4%be%8b%e4%bc%9a-regular-meeting-6/
LOCATION:ropponngi 6-10-1 六本木ヒルズ森タワー51階\, minato\, Tokyo\, 106-6151\, Japan
CATEGORIES:例会
END:VEVENT
END:VCALENDAR