BEGIN:VCALENDAR
VERSION:2.0
PRODID:-//東京広尾ロータリークラブ | Rotary Club of Tokyo Hiroo - ECPv4.5.13//NONSGML v1.0//EN
CALSCALE:GREGORIAN
METHOD:PUBLISH
X-WR-CALNAME:東京広尾ロータリークラブ | Rotary Club of Tokyo Hiroo
X-ORIGINAL-URL:https://hiroorc.org
X-WR-CALDESC:Events for 東京広尾ロータリークラブ | Rotary Club of Tokyo Hiroo
BEGIN:VEVENT
DTSTART;TZID=Asia/Tokyo:20200402T080000
DTEND;TZID=Asia/Tokyo:20200402T170000
DTSTAMP:20260422T224729
CREATED:20190924T075407Z
LAST-MODIFIED:20200129T233622Z
UID:19952-1585814400-1585846800@hiroorc.org
SUMMARY:Jesse Green ジェシー・グリーン "Cardiopulmonary Resuscitation" 心肺蘇生法
DESCRIPTION:
URL:https://hiroorc.org/event/%e4%be%8b%e4%bc%9a-regular-meeting-38/
END:VEVENT
END:VCALENDAR