BEGIN:VCALENDAR
VERSION:2.0
PRODID:-//東京広尾ロータリークラブ | Rotary Club of Tokyo Hiroo - ECPv4.5.13//NONSGML v1.0//EN
CALSCALE:GREGORIAN
METHOD:PUBLISH
X-WR-CALNAME:東京広尾ロータリークラブ | Rotary Club of Tokyo Hiroo
X-ORIGINAL-URL:https://hiroorc.org
X-WR-CALDESC:Events for 東京広尾ロータリークラブ | Rotary Club of Tokyo Hiroo
BEGIN:VEVENT
DTSTART;TZID=Asia/Tokyo:20200312T123000
DTEND;TZID=Asia/Tokyo:20200312T133000
DTSTAMP:20260423T041555
CREATED:20190924T075130Z
LAST-MODIFIED:20200306T051240Z
UID:19943-1584016200-1584019800@hiroorc.org
SUMMARY:休会 No Meeting
DESCRIPTION:
URL:https://hiroorc.org/event/%e4%be%8b%e4%bc%9a-regular-meeting-36/
CATEGORIES:例会
END:VEVENT
END:VCALENDAR