BEGIN:VCALENDAR
VERSION:2.0
PRODID:-//東京広尾ロータリークラブ | Rotary Club of Tokyo Hiroo - ECPv4.5.13//NONSGML v1.0//EN
CALSCALE:GREGORIAN
METHOD:PUBLISH
X-WR-CALNAME:東京広尾ロータリークラブ | Rotary Club of Tokyo Hiroo
X-ORIGINAL-URL:https://hiroorc.org
X-WR-CALDESC:Events for 東京広尾ロータリークラブ | Rotary Club of Tokyo Hiroo
BEGIN:VEVENT
DTSTART;TZID=Asia/Tokyo:20190214T123000
DTEND;TZID=Asia/Tokyo:20190214T133000
DTSTAMP:20260420T033601
CREATED:20180731T074449Z
LAST-MODIFIED:20190123T070528Z
UID:19327-1550147400-1550151000@hiroorc.org
SUMMARY:Karsten Klein\, Virtual Currency 仮想通貨について
DESCRIPTION:
URL:https://hiroorc.org/event/%e4%be%8b%e4%bc%9a-regular-meeting-18/
CATEGORIES:例会
END:VEVENT
END:VCALENDAR