BEGIN:VCALENDAR
VERSION:2.0
PRODID:-//東京広尾ロータリークラブ | Rotary Club of Tokyo Hiroo - ECPv4.5.13//NONSGML v1.0//EN
CALSCALE:GREGORIAN
METHOD:PUBLISH
X-WR-CALNAME:東京広尾ロータリークラブ | Rotary Club of Tokyo Hiroo
X-ORIGINAL-URL:https://hiroorc.org
X-WR-CALDESC:Events for 東京広尾ロータリークラブ | Rotary Club of Tokyo Hiroo
BEGIN:VEVENT
DTSTART;TZID=Asia/Tokyo:20181206T123000
DTEND;TZID=Asia/Tokyo:20181206T133000
DTSTAMP:20260419T180735
CREATED:20180530T084749Z
LAST-MODIFIED:20181012T104743Z
UID:19151-1544099400-1544103000@hiroorc.org
SUMMARY:2019-20年度理事役員選挙 Election for the board of 2019-20
DESCRIPTION:
URL:https://hiroorc.org/event/%e4%bc%91%e4%bc%9a-no-meeting-5/
END:VEVENT
END:VCALENDAR