BEGIN:VCALENDAR
VERSION:2.0
PRODID:-//東京広尾ロータリークラブ | Rotary Club of Tokyo Hiroo - ECPv4.5.13//NONSGML v1.0//EN
CALSCALE:GREGORIAN
METHOD:PUBLISH
X-WR-CALNAME:東京広尾ロータリークラブ | Rotary Club of Tokyo Hiroo
X-ORIGINAL-URL:https://hiroorc.org
X-WR-CALDESC:Events for 東京広尾ロータリークラブ | Rotary Club of Tokyo Hiroo
BEGIN:VEVENT
DTSTART;TZID=Asia/Tokyo:20181129T123000
DTEND;TZID=Asia/Tokyo:20181129T133000
DTSTAMP:20260419T181241
CREATED:20180530T084704Z
LAST-MODIFIED:20180530T085951Z
UID:19148-1543494600-1543498200@hiroorc.org
SUMMARY:休会 No Meeting
DESCRIPTION:
URL:https://hiroorc.org/event/%e4%bc%91%e4%bc%9a-no-meeting-4/
END:VEVENT
END:VCALENDAR