BEGIN:VCALENDAR
VERSION:2.0
PRODID:-//東京広尾ロータリークラブ | Rotary Club of Tokyo Hiroo - ECPv4.5.13//NONSGML v1.0//EN
CALSCALE:GREGORIAN
METHOD:PUBLISH
X-WR-CALNAME:東京広尾ロータリークラブ | Rotary Club of Tokyo Hiroo
X-ORIGINAL-URL:https://hiroorc.org
X-WR-CALDESC:Events for 東京広尾ロータリークラブ | Rotary Club of Tokyo Hiroo
BEGIN:VEVENT
DTSTART;TZID=Asia/Tokyo:20180816T123000
DTEND;TZID=Asia/Tokyo:20180816T133000
DTSTAMP:20260419T183656
CREATED:20180530T082755Z
LAST-MODIFIED:20180530T100522Z
UID:19145-1534422600-1534426200@hiroorc.org
SUMMARY:休会 No Meeting\, Summer Holiday
DESCRIPTION:
URL:https://hiroorc.org/event/%e4%bc%91%e4%bc%9a-no-meeting-3/
END:VEVENT
END:VCALENDAR