BEGIN:VCALENDAR
VERSION:2.0
PRODID:-//東京広尾ロータリークラブ | Rotary Club of Tokyo Hiroo - ECPv4.5.13//NONSGML v1.0//EN
CALSCALE:GREGORIAN
METHOD:PUBLISH
X-WR-CALNAME:東京広尾ロータリークラブ | Rotary Club of Tokyo Hiroo
X-ORIGINAL-URL:https://hiroorc.org
X-WR-CALDESC:Events for 東京広尾ロータリークラブ | Rotary Club of Tokyo Hiroo
BEGIN:VEVENT
DTSTART;TZID=Asia/Tokyo:20200430T080000
DTEND;TZID=Asia/Tokyo:20200430T170000
DTSTAMP:20260423T055429
CREATED:20190924T075750Z
LAST-MODIFIED:20190924T080546Z
UID:19965-1588233600-1588266000@hiroorc.org
SUMMARY:休会 No Meeting
DESCRIPTION:
URL:https://hiroorc.org/event/%e4%bc%91%e4%bc%9a-no-meeting-11/
END:VEVENT
END:VCALENDAR