BEGIN:VCALENDAR
VERSION:2.0
PRODID:-//東京広尾ロータリークラブ | Rotary Club of Tokyo Hiroo - ECPv4.5.13//NONSGML v1.0//EN
CALSCALE:GREGORIAN
METHOD:PUBLISH
X-WR-CALNAME:東京広尾ロータリークラブ | Rotary Club of Tokyo Hiroo
X-ORIGINAL-URL:https://hiroorc.org
X-WR-CALDESC:Events for 東京広尾ロータリークラブ | Rotary Club of Tokyo Hiroo
BEGIN:VEVENT
DTSTART;TZID=Asia/Tokyo:20190131T123000
DTEND;TZID=Asia/Tokyo:20190131T133000
DTSTAMP:20260419T221920
CREATED:20180731T074154Z
LAST-MODIFIED:20181211T082222Z
UID:19321-1548937800-1548941400@hiroorc.org
SUMMARY:クラブ協議会 地区大会について Club Assembly for District Conference
DESCRIPTION:
URL:https://hiroorc.org/event/%e3%82%af%e3%83%a9%e3%83%96%e5%8d%94%e8%ad%b0%e4%bc%9a-%e5%9c%b0%e5%8c%ba%e5%a4%a7%e4%bc%9a%e3%81%ab%e3%81%a4%e3%81%84%e3%81%a6-club-assembly-for-district-conference/
LOCATION:ropponngi 6-10-1 六本木ヒルズ森タワー51階\, minato\, Tokyo\, 106-6151\, Japan
CATEGORIES:例会
END:VEVENT
END:VCALENDAR