BEGIN:VCALENDAR
VERSION:2.0
PRODID:-//東京広尾ロータリークラブ | Rotary Club of Tokyo Hiroo - ECPv4.5.13//NONSGML v1.0//EN
CALSCALE:GREGORIAN
METHOD:PUBLISH
X-WR-CALNAME:東京広尾ロータリークラブ | Rotary Club of Tokyo Hiroo
X-ORIGINAL-URL:https://hiroorc.org
X-WR-CALDESC:Events for 東京広尾ロータリークラブ | Rotary Club of Tokyo Hiroo
BEGIN:VEVENT
DTSTART;TZID=Asia/Tokyo:20181101T110000
DTEND;TZID=Asia/Tokyo:20181101T133000
DTSTAMP:20260419T152712
CREATED:20180305T052438Z
LAST-MODIFIED:20180530T095915Z
UID:18899-1541070000-1541079000@hiroorc.org
SUMMARY:ガバナー懇談会・ガバナー訪問 Meeting with Govenor\, Govenor's Visit
DESCRIPTION:
URL:https://hiroorc.org/event/%e3%82%ac%e3%83%90%e3%83%8a%e3%83%bc%e6%87%87%e8%ab%87%e4%bc%9a/
LOCATION:ropponngi 6-10-1 六本木ヒルズ森タワー51階\, minato\, Tokyo\, 106-6151\, Japan
CATEGORIES:例会
END:VEVENT
END:VCALENDAR