BEGIN:VCALENDAR
VERSION:2.0
PRODID:-//東京広尾ロータリークラブ | Rotary Club of Tokyo Hiroo - ECPv4.5.13//NONSGML v1.0//EN
CALSCALE:GREGORIAN
METHOD:PUBLISH
X-WR-CALNAME:東京広尾ロータリークラブ | Rotary Club of Tokyo Hiroo
X-ORIGINAL-URL:https://hiroorc.org/en
X-WR-CALDESC:Events for 東京広尾ロータリークラブ | Rotary Club of Tokyo Hiroo
BEGIN:VEVENT
DTSTART;TZID=Asia/Tokyo:20210408T123000
DTEND;TZID=Asia/Tokyo:20210408T133000
DTSTAMP:20260422T143455
CREATED:20201207T050400Z
LAST-MODIFIED:20210402T081323Z
UID:20571-1617885000-1617888600@hiroorc.org
SUMMARY:(日本語) 田嶋 諒一様 Ryoichi Tajima 国際ロータリー第2750地区 IT推進委員会副委員長 RID-2750 IT Promotion Committee\, Vice Chair.
DESCRIPTION:
URL:https://hiroorc.org/en/event/%e4%be%8b%e4%bc%9a-regular-meeting-65/
CATEGORIES:例会
END:VEVENT
END:VCALENDAR