BEGIN:VCALENDAR
VERSION:2.0
PRODID:-//東京広尾ロータリークラブ | Rotary Club of Tokyo Hiroo - ECPv4.5.13//NONSGML v1.0//EN
CALSCALE:GREGORIAN
METHOD:PUBLISH
X-WR-CALNAME:東京広尾ロータリークラブ | Rotary Club of Tokyo Hiroo
X-ORIGINAL-URL:https://hiroorc.org/en
X-WR-CALDESC:Events for 東京広尾ロータリークラブ | Rotary Club of Tokyo Hiroo
BEGIN:VEVENT
DTSTART;TZID=Asia/Tokyo:20210311T080000
DTEND;TZID=Asia/Tokyo:20210311T170000
DTSTAMP:20260420T072757
CREATED:20201005T065712Z
LAST-MODIFIED:20201005T065712Z
UID:20467-1615449600-1615482000@hiroorc.org
SUMMARY:(日本語) 休会 No Meeting
DESCRIPTION:
URL:https://hiroorc.org/en/event/%e4%bc%91%e4%bc%9a-no-meeting-20/
END:VEVENT
END:VCALENDAR