BEGIN:VCALENDAR
VERSION:2.0
PRODID:-//東京広尾ロータリークラブ | Rotary Club of Tokyo Hiroo - ECPv4.5.13//NONSGML v1.0//EN
CALSCALE:GREGORIAN
METHOD:PUBLISH
X-WR-CALNAME:東京広尾ロータリークラブ | Rotary Club of Tokyo Hiroo
X-ORIGINAL-URL:https://hiroorc.org/en
X-WR-CALDESC:Events for 東京広尾ロータリークラブ | Rotary Club of Tokyo Hiroo
BEGIN:VEVENT
DTSTART;TZID=Asia/Tokyo:20210309T120000
DTEND;TZID=Asia/Tokyo:20210309T160000
DTSTAMP:20260420T033045
CREATED:20201005T070201Z
LAST-MODIFIED:20201005T070201Z
UID:20479-1615291200-1615305600@hiroorc.org
SUMMARY:(日本語) 山の手東グループ合同例会 Joint Meeting of Yamanote East Group
DESCRIPTION:
URL:https://hiroorc.org/en/event/%e5%b1%b1%e3%81%ae%e6%89%8b%e6%9d%b1%e3%82%b0%e3%83%ab%e3%83%bc%e3%83%97%e5%90%88%e5%90%8c%e4%be%8b%e4%bc%9a-joint-meeting-of-yamanote-east-group-2/
LOCATION:目黒区三田1-4-1\, 東京都\, 153-8580\, Japan
CATEGORIES:例会
END:VEVENT
END:VCALENDAR