BEGIN:VCALENDAR
VERSION:2.0
PRODID:-//東京広尾ロータリークラブ | Rotary Club of Tokyo Hiroo - ECPv4.5.13//NONSGML v1.0//EN
CALSCALE:GREGORIAN
METHOD:PUBLISH
X-WR-CALNAME:東京広尾ロータリークラブ | Rotary Club of Tokyo Hiroo
X-ORIGINAL-URL:https://hiroorc.org/en
X-WR-CALDESC:Events for 東京広尾ロータリークラブ | Rotary Club of Tokyo Hiroo
BEGIN:VEVENT
DTSTART;TZID=Asia/Tokyo:20180704T150000
DTEND;TZID=Asia/Tokyo:20180704T170000
DTSTAMP:20260421T013214
CREATED:20180426T021900Z
LAST-MODIFIED:20180530T082903Z
UID:19119-1530716400-1530723600@hiroorc.org
SUMMARY:服部ガバナー年度キックオフ Kick Off party of Governor Hattori’s year 夜間移動例会 Transferred Evening Meeting
DESCRIPTION:
URL:https://hiroorc.org/en/event/%e7%a7%bb%e5%8b%95%e4%be%8b%e4%bc%9a-%e6%9c%8d%e9%83%a8%e3%82%ac%e3%83%90%e3%83%8a%e3%83%bc%e3%82%ad%e3%83%83%e3%82%af%e3%82%aa%e3%83%95-transferred-meeting-kick-off-meeeting-of-hattori-governor/
LOCATION:東京都港区虎ノ門2-10-4\, 105-0001
CATEGORIES:例会
END:VEVENT
END:VCALENDAR