BEGIN:VCALENDAR
VERSION:2.0
PRODID:-//東京広尾ロータリークラブ | Rotary Club of Tokyo Hiroo - ECPv4.5.13//NONSGML v1.0//EN
CALSCALE:GREGORIAN
METHOD:PUBLISH
X-WR-CALNAME:東京広尾ロータリークラブ | Rotary Club of Tokyo Hiroo
X-ORIGINAL-URL:https://hiroorc.org/en
X-WR-CALDESC:Events for 東京広尾ロータリークラブ | Rotary Club of Tokyo Hiroo
BEGIN:VEVENT
DTSTART;TZID=Asia/Tokyo:20180621T123000
DTEND;TZID=Asia/Tokyo:20180621T133000
DTSTAMP:20260422T011319
CREATED:20170921T050846Z
LAST-MODIFIED:20180530T075822Z
UID:17549-1529584200-1529587800@hiroorc.org
SUMMARY:島田会長 2017-2018 年度のまとめ  Overview of 2017-2018 by President Shimada
DESCRIPTION:
URL:https://hiroorc.org/en/event/20180621/
LOCATION:ropponngi 6-10-1 六本木ヒルズ森タワー51階\, minato\, Tokyo\, 106-6151\, Japan
CATEGORIES:例会
END:VEVENT
END:VCALENDAR