BEGIN:VCALENDAR
VERSION:2.0
PRODID:-//東京広尾ロータリークラブ | Rotary Club of Tokyo Hiroo - ECPv4.5.13//NONSGML v1.0//EN
CALSCALE:GREGORIAN
METHOD:PUBLISH
X-WR-CALNAME:東京広尾ロータリークラブ | Rotary Club of Tokyo Hiroo
X-ORIGINAL-URL:https://hiroorc.org/en
X-WR-CALDESC:Events for 東京広尾ロータリークラブ | Rotary Club of Tokyo Hiroo
BEGIN:VEVENT
DTSTART;VALUE=DATE:20180614
DTEND;VALUE=DATE:20180614
DTSTAMP:20260422T134741
CREATED:20170921T050744Z
LAST-MODIFIED:20180530T075720Z
UID:17545-1528934400-1529020799@hiroorc.org
SUMMARY:夜間移動例会(会長・幹事ご苦労様会) Transferred Evening Meeting
DESCRIPTION:
URL:https://hiroorc.org/en/event/20180614/
CATEGORIES:例会
END:VEVENT
END:VCALENDAR