BEGIN:VCALENDAR
VERSION:2.0
PRODID:-//東京広尾ロータリークラブ | Rotary Club of Tokyo Hiroo - ECPv4.5.13//NONSGML v1.0//EN
CALSCALE:GREGORIAN
METHOD:PUBLISH
X-WR-CALNAME:東京広尾ロータリークラブ | Rotary Club of Tokyo Hiroo
X-ORIGINAL-URL:https://hiroorc.org/en
X-WR-CALDESC:Events for 東京広尾ロータリークラブ | Rotary Club of Tokyo Hiroo
BEGIN:VEVENT
DTSTART;TZID=Asia/Tokyo:20180125T123000
DTEND;TZID=Asia/Tokyo:20180125T123000
DTSTAMP:20260425T223751
CREATED:20170921T044422Z
LAST-MODIFIED:20171101T013638Z
UID:17479-1516883400-1516883400@hiroorc.org
SUMMARY:葉マリーナ様
DESCRIPTION:
URL:https://hiroorc.org/en/event/20180125/
LOCATION:ropponngi 6-10-1 六本木ヒルズ森タワー51階\, minato\, Tokyo\, 106-6151\, Japan
CATEGORIES:例会
END:VEVENT
END:VCALENDAR