BEGIN:VCALENDAR
VERSION:2.0
PRODID:-//東京広尾ロータリークラブ | Rotary Club of Tokyo Hiroo - ECPv4.5.13//NONSGML v1.0//EN
CALSCALE:GREGORIAN
METHOD:PUBLISH
X-WR-CALNAME:東京広尾ロータリークラブ | Rotary Club of Tokyo Hiroo
X-ORIGINAL-URL:https://hiroorc.org/en
X-WR-CALDESC:Events for 東京広尾ロータリークラブ | Rotary Club of Tokyo Hiroo
BEGIN:VEVENT
DTSTART;TZID=Asia/Tokyo:20180118T123000
DTEND;TZID=Asia/Tokyo:20180118T133000
DTSTAMP:20260425T212640
CREATED:20170921T044324Z
LAST-MODIFIED:20180112T072123Z
UID:17476-1516278600-1516282200@hiroorc.org
SUMMARY:会話の日　Conversation Day
DESCRIPTION:
URL:https://hiroorc.org/en/event/20180118/
LOCATION:ropponngi 6-10-1 六本木ヒルズ森タワー51階\, minato\, Tokyo\, 106-6151\, Japan
CATEGORIES:例会
END:VEVENT
END:VCALENDAR