BEGIN:VCALENDAR
VERSION:2.0
PRODID:-//東京広尾ロータリークラブ | Rotary Club of Tokyo Hiroo - ECPv4.5.13//NONSGML v1.0//EN
CALSCALE:GREGORIAN
METHOD:PUBLISH
X-WR-CALNAME:東京広尾ロータリークラブ | Rotary Club of Tokyo Hiroo
X-ORIGINAL-URL:https://hiroorc.org/en
X-WR-CALDESC:Events for 東京広尾ロータリークラブ | Rotary Club of Tokyo Hiroo
BEGIN:VEVENT
DTSTART;TZID=Asia/Tokyo:20181213T180000
DTEND;TZID=Asia/Tokyo:20181213T210000
DTSTAMP:20260419T170524
CREATED:20180731T073104Z
LAST-MODIFIED:20181207T075447Z
UID:19310-1544724000-1544734800@hiroorc.org
SUMMARY:(日本語) 夜間移動例会 クリスマスパーティー Transferred Evening Meeting-Christmas Party
DESCRIPTION:
URL:https://hiroorc.org/en/event/%e5%a4%9c%e9%96%93%e7%a7%bb%e5%8b%95%e4%be%8b%e4%bc%9a-%e3%82%af%e3%83%aa%e3%82%b9%e3%83%9e%e3%82%b9%e3%83%91%e3%83%bc%e3%83%86%e3%82%a3%e3%83%bc-christmas-party/
LOCATION:東京都港区元麻布3-7-5\, Japan
CATEGORIES:例会
END:VEVENT
END:VCALENDAR