BEGIN:VCALENDAR
VERSION:2.0
PRODID:-//東京広尾ロータリークラブ | Rotary Club of Tokyo Hiroo - ECPv4.5.13//NONSGML v1.0//EN
CALSCALE:GREGORIAN
METHOD:PUBLISH
X-WR-CALNAME:東京広尾ロータリークラブ | Rotary Club of Tokyo Hiroo
X-ORIGINAL-URL:https://hiroorc.org/en
X-WR-CALDESC:Events for 東京広尾ロータリークラブ | Rotary Club of Tokyo Hiroo
BEGIN:VEVENT
DTSTART;TZID=Asia/Tokyo:20200514T123000
DTEND;TZID=Asia/Tokyo:20200514T133000
DTSTAMP:20260425T113343
CREATED:20190924T080826Z
LAST-MODIFIED:20200422T001006Z
UID:19974-1589459400-1589463000@hiroorc.org
SUMMARY:(日本語) 休会 No meeting
DESCRIPTION:
URL:https://hiroorc.org/en/event/%e4%be%8b%e4%bc%9a-regular-meeting-41/
CATEGORIES:例会
END:VEVENT
END:VCALENDAR