BEGIN:VCALENDAR
VERSION:2.0
PRODID:-//東京広尾ロータリークラブ | Rotary Club of Tokyo Hiroo - ECPv4.5.13//NONSGML v1.0//EN
CALSCALE:GREGORIAN
METHOD:PUBLISH
X-WR-CALNAME:東京広尾ロータリークラブ | Rotary Club of Tokyo Hiroo
X-ORIGINAL-URL:https://hiroorc.org/en
X-WR-CALDESC:Events for 東京広尾ロータリークラブ | Rotary Club of Tokyo Hiroo
BEGIN:VEVENT
DTSTART;TZID=Asia/Tokyo:20200409T080000
DTEND;TZID=Asia/Tokyo:20200409T170000
DTSTAMP:20260423T024149
CREATED:20190924T075438Z
LAST-MODIFIED:20200422T001051Z
UID:19955-1586419200-1586451600@hiroorc.org
SUMMARY:(日本語) 休会 No Meeting
DESCRIPTION:
URL:https://hiroorc.org/en/event/%e4%be%8b%e4%bc%9a-regular-meeting-39/
END:VEVENT
END:VCALENDAR