BEGIN:VCALENDAR
VERSION:2.0
PRODID:-//東京広尾ロータリークラブ | Rotary Club of Tokyo Hiroo - ECPv4.5.13//NONSGML v1.0//EN
CALSCALE:GREGORIAN
METHOD:PUBLISH
X-WR-CALNAME:東京広尾ロータリークラブ | Rotary Club of Tokyo Hiroo
X-ORIGINAL-URL:https://hiroorc.org/en
X-WR-CALDESC:Events for 東京広尾ロータリークラブ | Rotary Club of Tokyo Hiroo
BEGIN:VEVENT
DTSTART;TZID=Asia/Tokyo:20170928T123000
DTEND;TZID=Asia/Tokyo:20170928T133000
DTSTAMP:20260420T061223
CREATED:20170821T052248Z
LAST-MODIFIED:20170929T012446Z
UID:16854-1506601800-1506605400@hiroorc.org
SUMMARY:豊田浩様 Hiroshi Toyota 日本経営システム㈱ 社長 President of Japan Management Systems Inc.
DESCRIPTION:
URL:https://hiroorc.org/en/event/%e4%be%8b%e4%bc%9a-regular-meeting-3/
LOCATION:ropponngi 6-10-1 六本木ヒルズ森タワー51階\, minato\, Tokyo\, 106-6151\, Japan
CATEGORIES:例会
END:VEVENT
END:VCALENDAR