BEGIN:VCALENDAR
VERSION:2.0
PRODID:-//東京広尾ロータリークラブ | Rotary Club of Tokyo Hiroo - ECPv4.5.13//NONSGML v1.0//EN
CALSCALE:GREGORIAN
METHOD:PUBLISH
X-WR-CALNAME:東京広尾ロータリークラブ | Rotary Club of Tokyo Hiroo
X-ORIGINAL-URL:https://hiroorc.org/en
X-WR-CALDESC:Events for 東京広尾ロータリークラブ | Rotary Club of Tokyo Hiroo
BEGIN:VEVENT
DTSTART;TZID=Asia/Tokyo:20190110T123000
DTEND;TZID=Asia/Tokyo:20190110T133000
DTSTAMP:20260419T154538
CREATED:20180530T102010Z
LAST-MODIFIED:20190116T072411Z
UID:19222-1547123400-1547127000@hiroorc.org
SUMMARY:例会 Regular Meeting
DESCRIPTION:
URL:https://hiroorc.org/en/event/%e4%be%8b%e4%bc%9a-regular-meeting-14/
LOCATION:ropponngi 6-10-1 六本木ヒルズ森タワー51階\, minato\, Tokyo\, 106-6151\, Japan
CATEGORIES:例会
END:VEVENT
END:VCALENDAR