BEGIN:VCALENDAR
VERSION:2.0
PRODID:-//東京広尾ロータリークラブ | Rotary Club of Tokyo Hiroo - ECPv4.5.13//NONSGML v1.0//EN
CALSCALE:GREGORIAN
METHOD:PUBLISH
X-WR-CALNAME:東京広尾ロータリークラブ | Rotary Club of Tokyo Hiroo
X-ORIGINAL-URL:https://hiroorc.org/en
X-WR-CALDESC:Events for 東京広尾ロータリークラブ | Rotary Club of Tokyo Hiroo
BEGIN:VEVENT
DTSTART;VALUE=DATE:20171214
DTEND;VALUE=DATE:20171214
DTSTAMP:20260421T154759
CREATED:20170921T003936Z
LAST-MODIFIED:20171114T041803Z
UID:17402-1513209600-1513295999@hiroorc.org
SUMMARY:年次総会 Annual Assembly 会長ノミニー、次年度理事選挙 Election for the President nominee & Directors
DESCRIPTION:
URL:https://hiroorc.org/en/event/%e4%bc%9a%e9%95%b7%e9%81%b8%e6%8c%99-election/
END:VEVENT
END:VCALENDAR