BEGIN:VCALENDAR
VERSION:2.0
PRODID:-//東京広尾ロータリークラブ | Rotary Club of Tokyo Hiroo - ECPv4.5.13//NONSGML v1.0//EN
CALSCALE:GREGORIAN
METHOD:PUBLISH
X-WR-CALNAME:東京広尾ロータリークラブ | Rotary Club of Tokyo Hiroo
X-ORIGINAL-URL:https://hiroorc.org/en
X-WR-CALDESC:Events for 東京広尾ロータリークラブ | Rotary Club of Tokyo Hiroo
BEGIN:VEVENT
DTSTART;TZID=Asia/Tokyo:20180809T123000
DTEND;TZID=Asia/Tokyo:20180809T133000
DTSTAMP:20260419T200818
CREATED:20180530T082704Z
LAST-MODIFIED:20180530T100445Z
UID:19142-1533817800-1533821400@hiroorc.org
SUMMARY:休会 No Meeting\, Summer Holiday
DESCRIPTION:
URL:https://hiroorc.org/en/event/%e4%bc%91%e4%bc%9a-no-meeting-2/
END:VEVENT
END:VCALENDAR